BEGIN:VCALENDAR
VERSION:2.0
PRODID:-//ChamberMaster//Event Calendar 2.0//EN
METHOD:PUBLISH
X-PUBLISHED-TTL:P3D
REFRESH-INTERVAL:P3D
CALSCALE:GREGORIAN
BEGIN:VEVENT
DTSTART:20141024T150000Z
DTEND:20141024T170000Z
X-MICROSOFT-CDO-ALLDAYEVENT:FALSE
SUMMARY:Medicare Part "D" Open Enrollment
DESCRIPTION:SHIP volunteer counselors will be available at those days and times to help Medicare beneficiaries compare and select plans for 2015.  Just bring one's Medicare card and a detailed list of medications\, with dosages\, or the prescription bottles.  Everyone will be helped on a first-come\, first-served basis\, so there may be a wait\, with a session possibly lastin up to an hour.  Call the Council on Aging (256) 543-3616 if there are questions.
X-ALT-DESC;FMTTYPE=text/html:SHIP volunteer counselors will be available at those days and times to help Medicare beneficiaries compare and select plans for 2015.&nbsp\; Just bring one&#39\;s Medicare card and a detailed list of medications\, with dosages\, or the prescription bottles.&nbsp\; Everyone will be helped on a first-come\, first-served basis\, so there may be a wait\, with a session possibly lastin up to an hour.&nbsp\; Call the Council on Aging (256) 543-3616 if there are questions.
LOCATION:Etowah County Court House
UID:e.1432.385042
SEQUENCE:3
DTSTAMP:20260422T132013Z
URL:http://business.etowahchamber.org/events/details/medicare-part-d-open-enrollment-10-24-2014-385042
END:VEVENT

END:VCALENDAR
