BEGIN:VCALENDAR
VERSION:2.0
PRODID:-//ChamberMaster//Event Calendar 2.0//EN
METHOD:PUBLISH
X-PUBLISHED-TTL:P3D
REFRESH-INTERVAL:P3D
CALSCALE:GREGORIAN
BEGIN:VEVENT
DTSTART;VALUE=DATE:20130527
DTEND;VALUE=DATE:20130528
TRANSP:TRANSPARENT
X-MICROSOFT-CDO-ALLDAYEVENT:TRUE
SUMMARY:Memorial Day Program
DESCRIPTION:Memorial Day Program at Colonel Ola Lee Mize Patriots Park at  Noccalula Falls\n\non Monday May 27\, 2013 at 10:00am.\n\nThe Program lasts about 30 minutes.\n\nThe Marine Corps League is providing water and there will be tents set up for shade.\n\nThere will be around 150 chairs set up\, but you may bring your lawn chairs.\n\nPlease come and honor those that paid the ultimate sacrifice for us.
X-ALT-DESC;FMTTYPE=text/html:<span style="color: black\;"><span style="font-size: medium\;"><span style="font-family: times new roman\;">Memorial Day Program at Colonel Ola Lee Mize Patriots Park at&nbsp\;&nbsp\;Noccalula Falls</span></span></span><br />\n<span style="color: black\;"><span style="font-size: medium\;"><span style="font-family: times new roman\;">on Monday May 27\, 2013 at 10:00am.</span></span></span><br />\n<span style="color: black\;"><span style="font-size: medium\;"><span style="font-family: times new roman\;">The Program lasts about 30 minutes.</span></span></span><br />\n<span style="color: black\;"><span style="font-size: medium\;"><span style="font-family: times new roman\;">The Marine Corps League is providing water and there will be tents set up for shade.</span></span></span><br />\n<span style="color: black\;"><span style="font-size: medium\;"><span style="font-family: times new roman\;">There will be around 150 chairs set up\, but you may bring your lawn chairs.</span></span></span><br />\n<span style="color: black\;"><span style="font-size: medium\;"><span style="font-family: times new roman\;">Please come and honor those that paid the ultimate sacrifice for us.</span></span></span><br />\n
LOCATION:Colonel Ola Lee Mize Patriots Park at Noccalula Falls
UID:e.1432.383277
SEQUENCE:3
DTSTAMP:20260423T093906Z
URL:http://business.etowahchamber.org/events/details/memorial-day-program-05-27-2013-383277
END:VEVENT

END:VCALENDAR
