BEGIN:VCALENDAR
VERSION:2.0
PRODID:-//ChamberMaster//Event Calendar 2.0//EN
METHOD:PUBLISH
X-PUBLISHED-TTL:P3D
REFRESH-INTERVAL:P3D
CALSCALE:GREGORIAN
BEGIN:VEVENT
DTSTART:20140526T150000Z
DTEND:20140526T160000Z
X-MICROSOFT-CDO-ALLDAYEVENT:FALSE
SUMMARY:Memorial Day Program for Gadsden
DESCRIPTION:Memorial Day Program at Colonel Ola Lee Mize Patriots Park on May 26th at 10am. The program will last about 30 minutes and is free admission. The speaker will be LTC (Retired) James McGlaughn. After the program there will be an unveiling of the new Iraq/Afghanistan Plaque and the new Purple Heart Monument. There will be water and snacks provided by the McLaughlin Detachment-Marine Corps League. There will be seating for up to 250 people\, but we encourage guests to bring a chair if they can.
X-ALT-DESC;FMTTYPE=text/html:<span style="color:black\;"><span style="font-family:helvetica\,sans-serif\;">Memorial Day Program at Colonel Ola Lee Mize Patriots Park on May&nbsp\;26th at 10am. The program will last about 30 minutes and is free admission. The speaker will be LTC (Retired) James McGlaughn. After the program there will be an unveiling of the new Iraq/Afghanistan Plaque and the new Purple Heart Monument. There will be water and snacks provided by the McLaughlin Detachment-Marine Corps League. There will be seating for up to 250 people\, but we encourage&nbsp\;guests to bring a chair if they can.</span></span>
LOCATION:Colonel Ola Lee Mize Patriots Park\, Noccalula Falls Park
UID:e.1432.384652
SEQUENCE:3
DTSTAMP:20260422T194838Z
URL:http://business.etowahchamber.org/events/details/memorial-day-program-for-gadsden-05-26-2014-384652
END:VEVENT

END:VCALENDAR
