BEGIN:VCALENDAR
VERSION:2.0
PRODID:-//ChamberMaster//Event Calendar 2.0//EN
METHOD:PUBLISH
X-PUBLISHED-TTL:P3D
REFRESH-INTERVAL:P3D
CALSCALE:GREGORIAN
BEGIN:VEVENT
DTSTART:20120929T170000Z
DTEND:20120930T030000Z
X-MICROSOFT-CDO-ALLDAYEVENT:FALSE
SUMMARY:Mid South Marching Festival
DESCRIPTION:The 48th Annual Mid South Marching Band Festival\, September 29 at Gadsden City High School Titan Stadium.  Marching bands throughout the southeast converge on Gadsden vying for superior ratings.
X-ALT-DESC;FMTTYPE=text/html:The 48th Annual Mid South Marching Band Festival\, September 29 at Gadsden City High School Titan Stadium.&nbsp\; Marching bands throughout the southeast converge on Gadsden vying for superior ratings.<br />\n<br />\n
LOCATION:Gadsden City High School Titan Stadium
UID:e.1432.382753
SEQUENCE:3
DTSTAMP:20260422T231559Z
URL:http://business.etowahchamber.org/events/details/mid-south-marching-festival-09-29-2012-382753
END:VEVENT

END:VCALENDAR
