BEGIN:VCALENDAR
VERSION:2.0
PRODID:-//ChamberMaster//Event Calendar 2.0//EN
METHOD:PUBLISH
X-PUBLISHED-TTL:P3D
REFRESH-INTERVAL:P3D
CALSCALE:GREGORIAN
BEGIN:VEVENT
DTSTART:20120926T190000Z
DTEND:20120926T210000Z
X-MICROSOFT-CDO-ALLDAYEVENT:FALSE
SUMMARY:Miss Gadsden State Orientation
DESCRIPTION:Miss Gadsden State Orientation will be held at 2pm in the Wallace Hall Band Room. For More Information call 256-549-8329 or 256-549-8224.
X-ALT-DESC;FMTTYPE=text/html:Miss Gadsden State Orientation will be held at 2pm in the Wallace Hall Band Room. For More Information call 256-549-8329 or 256-549-8224.
LOCATION:Wallace Hall Band Room at 2pm
UID:e.1432.382761
SEQUENCE:3
DTSTAMP:20260423T003756Z
URL:http://business.etowahchamber.org/events/details/miss-gadsden-state-orientation-09-26-2012-382761
END:VEVENT

END:VCALENDAR
