BEGIN:VCALENDAR
VERSION:2.0
PRODID:-//ChamberMaster//Event Calendar 2.0//EN
METHOD:PUBLISH
X-PUBLISHED-TTL:P3D
REFRESH-INTERVAL:P3D
CALSCALE:GREGORIAN
BEGIN:VEVENT
DTSTART:20121110T000000Z
DTEND:20121110T000000Z
X-MICROSOFT-CDO-ALLDAYEVENT:FALSE
SUMMARY:Miss Gadsden State Pageant
DESCRIPTION:
X-ALT-DESC;FMTTYPE=text/html:
LOCATION:Wallace Hall Fine Arts Center
UID:e.1432.381551
SEQUENCE:3
DTSTAMP:20260423T020918Z
URL:http://business.etowahchamber.org/events/details/miss-gadsden-state-pageant-11-09-2012-381551
END:VEVENT

END:VCALENDAR
