BEGIN:VCALENDAR
VERSION:2.0
PRODID:-//ChamberMaster//Event Calendar 2.0//EN
METHOD:PUBLISH
X-PUBLISHED-TTL:P3D
REFRESH-INTERVAL:P3D
CALSCALE:GREGORIAN
BEGIN:VEVENT
DTSTART:20120924T130000Z
DTEND:20120924T210000Z
X-MICROSOFT-CDO-ALLDAYEVENT:FALSE
SUMMARY:Miss Gadsden State Pageant Entry Deadline
DESCRIPTION:Deadline for entry is September 24th.  For more information call 256-549-8329 or 256-549-8224.
X-ALT-DESC;FMTTYPE=text/html:Deadline for entry is September 24th. &nbsp\;For more information call 256-549-8329 or 256-549-8224.
LOCATION:Gadsden State Community College
UID:e.1432.382760
SEQUENCE:3
DTSTAMP:20260422T231455Z
URL:http://business.etowahchamber.org/events/details/miss-gadsden-state-pageant-entry-deadline-09-24-2012-382760
END:VEVENT

END:VCALENDAR
