BEGIN:VCALENDAR
VERSION:2.0
PRODID:-//ChamberMaster//Event Calendar 2.0//EN
METHOD:PUBLISH
X-PUBLISHED-TTL:P3D
REFRESH-INTERVAL:P3D
CALSCALE:GREGORIAN
BEGIN:VEVENT
DTSTART:20181207T210000Z
DTEND:20181208T010000Z
X-MICROSOFT-CDO-ALLDAYEVENT:FALSE
SUMMARY:Mistletoe Market at 5th Street Market
DESCRIPTION:Mistletoe Market hosted at 5th Street Market is December 7-9th\, 2018. Mistletoe Market will have local foods\, snacks\, art\, crafts and gift ideas for all ages. The event has no admission to the public and will be open Friday evening December 7th \n\n3 p.m. to 7 p.m.\, Saturday\, December 8th from 10 a.m. to 5 p.m. and Sunday\, December 9th from noon to 5 p.m. \n\n\n\nMistletoe Market we will celebrate local vendors and those from across the state of Alabama. \n\n\n\nFor more information\, please contact:\n\njtarrance@cityofgadsden.com
X-ALT-DESC;FMTTYPE=text/html:<span style="font-size:16px\;"><span style="font-family:arial\;"><span style="color: rgb(29\, 33\, 41)\;">Mistletoe Market hosted at 5th Street Market is December 7-9th\, 2018. Mistletoe Market will have local foods\, snacks\, art\, crafts and gift ideas for all ages. The event has no admission to the public and will be open Friday evening December 7th&nbsp\;</span><br style="color: rgb(29\, 33\, 41)\; font-family: Helvetica\, Arial\, sans-serif\; font-size: 14px\;" />\n<span style="color: rgb(29\, 33\, 41)\;">3 p.m. to 7 p.m.\, Saturday\, December 8th from 10 a.m. to 5 p.m. and Sunday\, December 9th from noon to 5 p.m.&nbsp\;</span><br style="color: rgb(29\, 33\, 41)\; font-family: Helvetica\, Arial\, sans-serif\; font-size: 14px\;" />\n<br style="color: rgb(29\, 33\, 41)\; font-family: Helvetica\, Arial\, sans-serif\; font-size: 14px\;" />\n<span style="color: rgb(29\, 33\, 41)\;">Mistletoe Market we will celebrate local vendors and those from across the state of Alabama.&nbsp\;</span><br style="color: rgb(29\, 33\, 41)\; font-family: Helvetica\, Arial\, sans-serif\; font-size: 14px\;" />\n<br />\n<span style="color: rgb(29\, 33\, 41)\;"><u><strong>For more information\, please contact:</strong></u></span><br />\n<strong><a href="http://jtarrance@cityofgadsden.com"><span style="color:#0000FF\;">jtarrance@cityofgadsden.com</span></a></strong></span></span>
LOCATION:5th Street Market 439 Locust Street Gadsden\, AL 35901
UID:e.1432.398324
SEQUENCE:3
DTSTAMP:20260422T155806Z
URL:http://business.etowahchamber.org/events/details/mistletoe-market-at-5th-street-market-398324
END:VEVENT

END:VCALENDAR
