BEGIN:VCALENDAR
VERSION:2.0
PRODID:-//ChamberMaster//Event Calendar 2.0//EN
METHOD:PUBLISH
X-PUBLISHED-TTL:P3D
REFRESH-INTERVAL:P3D
CALSCALE:GREGORIAN
BEGIN:VEVENT
DTSTART:20131101T000000Z
DTEND:20131101T030000Z
X-MICROSOFT-CDO-ALLDAYEVENT:FALSE
SUMMARY:Monster Mash Howl-O-Ween Bash
DESCRIPTION:This is a costume event to benefit the Humane Society Pet Rescue and Adoption Center. We will offer heavy hors d'oeuvres\, a cash bar and a special witches brew.
X-ALT-DESC;FMTTYPE=text/html:This is a costume event to benefit the Humane Society Pet Rescue and Adoption Center. We will offer heavy hors d&#39\;oeuvres\, a cash bar and a special witches brew.
LOCATION:The Fish Market Restaurant
UID:e.1432.384134
SEQUENCE:3
DTSTAMP:20260423T052054Z
URL:http://business.etowahchamber.org/events/details/monster-mash-howl-o-ween-bash-10-31-2013-384134
END:VEVENT

END:VCALENDAR
