BEGIN:VCALENDAR
VERSION:2.0
PRODID:-//ChamberMaster//Event Calendar 2.0//EN
METHOD:PUBLISH
X-PUBLISHED-TTL:P3D
REFRESH-INTERVAL:P3D
CALSCALE:GREGORIAN
BEGIN:VEVENT
DTSTART:20130803T003000Z
DTEND:20130803T020000Z
X-MICROSOFT-CDO-ALLDAYEVENT:FALSE
SUMMARY:Monty Python's SPAMALOT The Musical
DESCRIPTION:Characters Theatrics presents\n\nMonty Python's SPAMALOT The Musical\n\nJuly 26\, 27 & August 1\, 2 - 7:30PM\n\nJuly 28 & August 4 - 2:30PM\n\n$8 - 10 Advance | $10 - 12 At the Door
X-ALT-DESC;FMTTYPE=text/html:<font class="small_txt">Characters Theatrics presents<br />\nMonty Python&#39\;s SPAMALOT The Musical<br />\nJuly 26\, 27 &amp\; August 1\, 2 - 7:30PM<br />\nJuly 28 &amp\; August 4 - 2:30PM<br />\n$8 - 10 Advance | $10 - 12 At the Door</font>
LOCATION:Wallace Hall Fine Arts Center
UID:e.1432.383340
SEQUENCE:3
DTSTAMP:20260423T090056Z
URL:http://business.etowahchamber.org/events/details/monty-python-s-spamalot-the-musical-08-02-2013-383340
END:VEVENT

END:VCALENDAR
