BEGIN:VCALENDAR
VERSION:2.0
PRODID:-//ChamberMaster//Event Calendar 2.0//EN
METHOD:PUBLISH
X-PUBLISHED-TTL:P3D
REFRESH-INTERVAL:P3D
CALSCALE:GREGORIAN
BEGIN:VEVENT
DTSTART:20190316T140000Z
DTEND:20190317T010000Z
X-MICROSOFT-CDO-ALLDAYEVENT:FALSE
SUMMARY:Moragne Park Reopening
DESCRIPTION:After a year-long\, comprehensive renovation project\, the City of Gadsden will officially reopen Moragne Park on March 16\, 2019. In celebration of the long-awaited reopening of one of the City's flagship parks\, the City of Gadsden's Parks and Recreation Department will host a day-long series of events to showcase many of the renovated park's features. City officials will open the park with a Ribbon Cutting Ceremony at 10 a.m.\n\n\n\nThe Gadsden Horseshoe Association will host a tournament starting at 9:30 a.m.\, followed by a sand volleyball tournament at 10:30\, next the Gadsden Rugby Club's cornhole tournament starts at 1 p.m.\, with Characters Entertainment performances at 3 and 3:30\, last\, an outdoor movie 'Smallfoot' will start just after sunset.\n\n\n\nMoragne Park has a long history for Gadsden residents as a park used by all of those across the city. The long needed renovations touch all parts of the park and will ensure that memories are made in the park for years to come. The renovations include a new universally accessible playground\, dual zip lines\, walking track\, three sand volleyball courts & green space with competition grade lighting\, multiple picnic pavilions\, and overall park renovations.\n\n\n\nPlease join the City of Gadsden all day long on March 16 to celebrate Morgane Park and experience all of the new amenities of this favorite park along the Coosa Riverfront.
X-ALT-DESC;FMTTYPE=text/html:<span style="font-size:16px\;"><span style="font-family:arial\;">After a year-long\, comprehensive renovation project\, the City of Gadsden will officially reopen Moragne Park on March 16\, 2019. In celebration of the long-awaited reopening of one of the City&rsquo\;s flagship parks\, the City of Gadsden&rsquo\;s Parks and Recreation Department will host a day-long series of events to showcase many of the renovated park&rsquo\;s features. City officials will open the park with a Ribbon Cutting Ceremony at 10 a.m.<br />\n<br />\nThe Gadsden Horseshoe Association will host a tournament starting at 9:30 a.m.\, followed by a sand volleyball tournament at 10:30\, next the Gadsden Rugby Club&rsquo\;s cornhole tournament starts at 1 p.m.\, with Characters Entertainment performances at 3 and 3:30\, last\, an outdoor movie &lsquo\;Smallfoot&rsquo\; will start just after sunset.<br />\n<br />\nMoragne Park has a long history for Gadsden residents as a park used by all of those across the city. The long needed renovations touch all parts of the park and will ensure that memories are made in the park for years to come. The renovations include a new universally accessible playground\, dual zip lines\, walking track\, three sand volleyball courts &amp\; green space with competition grade lighting\, multiple picnic pavilions\, and overall park renovations.<br />\n<br />\nPlease join the City of Gadsden all day long on March 16 to celebrate Morgane Park and experience all of the new amenities of this favorite park along the Coosa Riverfront.</span></span>
LOCATION:Moragne Park
UID:e.1432.400399
SEQUENCE:3
DTSTAMP:20260422T112152Z
URL:http://business.etowahchamber.org/events/details/moragne-park-reopening-400399
END:VEVENT

END:VCALENDAR
