BEGIN:VCALENDAR
VERSION:2.0
PRODID:-//ChamberMaster//Event Calendar 2.0//EN
METHOD:PUBLISH
X-PUBLISHED-TTL:P3D
REFRESH-INTERVAL:P3D
CALSCALE:GREGORIAN
BEGIN:VEVENT
DTSTART:20121121T013000Z
DTEND:20121121T013000Z
X-MICROSOFT-CDO-ALLDAYEVENT:FALSE
SUMMARY:Moscow Ballet Presents The Great Russian Nutcracker
DESCRIPTION:
X-ALT-DESC;FMTTYPE=text/html:
LOCATION:Wallace Hall Fine Arts Center
UID:e.1432.382803
SEQUENCE:3
DTSTAMP:20260423T020022Z
URL:http://business.etowahchamber.org/events/details/moscow-ballet-presents-the-great-russian-nutcracker-11-20-2012-382803
END:VEVENT

END:VCALENDAR
