BEGIN:VCALENDAR
VERSION:2.0
PRODID:-//ChamberMaster//Event Calendar 2.0//EN
METHOD:PUBLISH
X-PUBLISHED-TTL:P3D
REFRESH-INTERVAL:P3D
CALSCALE:GREGORIAN
BEGIN:VEVENT
DTSTART:20130511T160000Z
DTEND:20130511T190000Z
X-MICROSOFT-CDO-ALLDAYEVENT:FALSE
SUMMARY:Mother's Day Luncheon at Wills Creek Winery
DESCRIPTION:Honor your mom all weekend this Mother's Day! Come to the winery on Saturday for a delicious luncheon.\n\n	 \n\n	Saturday\, May 11\n\n	Buffet lunch 11:00am - 2:00pm\n\n	Reservations required. Call (256) 538-5452 to reserve.\n\n	$15/person\n\n	 \n\n	Includes choice of two main dish options\, two sides\, bread\, beverages and dessert.\n\n	 \n\n	\n		BONUS! Each mom in attendance will be entered into a raffle drawing to\n	\n		win a WCV Mother's Day gift basket!\n	\n\n	\n		In case of rain\, we will move to the pavilion at Wills Creek Vineyards at the Windmill\, which is two miles up Duck Springs Road from the winery tasting room.\n	\n\n	\n		Call (256) 538-5452 to reserve today!
X-ALT-DESC;FMTTYPE=text/html:<div style="color: rgb(0\, 0\, 0)\; font-family: 'Trebuchet MS'\, Verdana\, Helvetica\, sans-serif\; font-size: 12pt\;">\n	Honor your mom all weekend this Mother&#39\;s Day! Come to the winery on Saturday for a delicious luncheon.</div>\n<div style="color: rgb(0\, 0\, 0)\; font-family: 'Trebuchet MS'\, Verdana\, Helvetica\, sans-serif\; font-size: 12pt\;">\n	&nbsp\;</div>\n<div style="color: rgb(0\, 0\, 0)\; font-family: 'Trebuchet MS'\, Verdana\, Helvetica\, sans-serif\; font-size: 12pt\;">\n	<strong>Saturday\, May 11</strong></div>\n<div style="color: rgb(0\, 0\, 0)\; font-family: 'Trebuchet MS'\, Verdana\, Helvetica\, sans-serif\; font-size: 12pt\;">\n	<strong>Buffet lunch 11:00am - 2:00pm</strong></div>\n<div style="color: rgb(0\, 0\, 0)\; font-family: 'Trebuchet MS'\, Verdana\, Helvetica\, sans-serif\; font-size: 12pt\;">\n	Reservations required. Call (256) 538-5452 to reserve.</div>\n<div style="color: rgb(0\, 0\, 0)\; font-family: 'Trebuchet MS'\, Verdana\, Helvetica\, sans-serif\; font-size: 12pt\;">\n	$15/person</div>\n<div style="color: rgb(0\, 0\, 0)\; font-family: 'Trebuchet MS'\, Verdana\, Helvetica\, sans-serif\; font-size: 12pt\;">\n	&nbsp\;</div>\n<div style="color: rgb(0\, 0\, 0)\; font-family: 'Trebuchet MS'\, Verdana\, Helvetica\, sans-serif\; font-size: 12pt\;">\n	Includes choice of two main dish options\, two sides\, bread\, beverages and dessert.</div>\n<div style="color: rgb(0\, 0\, 0)\; font-family: 'Trebuchet MS'\, Verdana\, Helvetica\, sans-serif\; font-size: 12pt\;">\n	&nbsp\;</div>\n<div style="color: rgb(0\, 0\, 0)\; font-family: 'Trebuchet MS'\, Verdana\, Helvetica\, sans-serif\; font-size: 12pt\;">\n	<div>\n		<span style="color: rgb(0\, 64\, 167)\;"><strong>BONUS!&nbsp\;</strong></span>Each mom in attendance will be entered into a raffle drawing to</div>\n	<div>\n		<strong>win a WCV Mother&#39\;s Day gift basket</strong>!</div>\n	<br />\n	<div>\n		In case of rain\, we will move to the pavilion at Wills Creek Vineyards at the Windmill\, which is two miles up Duck Springs Road from the winery tasting room.</div>\n	<br />\n	<div>\n		<strong>Call (256) 538-5452 to reserve today!</strong></div>\n</div>\n<br />\n
LOCATION:Wills Creek Vineyard 10522 Duck Springs Road Attalla\, AL
UID:e.1432.383259
SEQUENCE:3
DTSTAMP:20260423T094546Z
URL:http://business.etowahchamber.org/events/details/mother-s-day-luncheon-at-wills-creek-winery-05-11-2013-383259
END:VEVENT

END:VCALENDAR
