BEGIN:VCALENDAR
VERSION:2.0
PRODID:-//ChamberMaster//Event Calendar 2.0//EN
METHOD:PUBLISH
X-PUBLISHED-TTL:P3D
REFRESH-INTERVAL:P3D
CALSCALE:GREGORIAN
BEGIN:VEVENT
DTSTART;VALUE=DATE:20120508
DTEND;VALUE=DATE:20120509
TRANSP:TRANSPARENT
X-MICROSOFT-CDO-ALLDAYEVENT:TRUE
SUMMARY:Moultrie Toyota and Moultrie Nissan Annual Golf Tournament to benefit United Way of Etowah County
DESCRIPTION:Moultrie Toyota and Moultrie Nissan invite you to participate in the Annual Golf Tournament to benefit the United Way of Etowah County on May 8th at Silver Lakes Golf Course. Lunch 11:30am and Tee Time 1:00pm\, $300 per team or $75 per person. For more information contact Larry Peppers at Moultrie Toyota 256-413-7272. Entry deadline is May 3rd.\n	Click here to edit...
X-ALT-DESC;FMTTYPE=text/html:<div style="color: gray">\n	<p>\n		Moultrie Toyota and Moultrie Nissan invite you to participate in the Annual Golf Tournament to benefit the United Way of Etowah County on May 8th at Silver Lakes Golf Course. Lunch 11:30am and Tee Time 1:00pm\, $300 per team or $75 per person. For more information contact Larry Peppers at Moultrie Toyota 256-413-7272. Entry deadline is May 3rd.</p>\n	Click here to edit...</div>\n
LOCATION:Robert Trent Jones at Silver Lakes
UID:e.1432.381464
SEQUENCE:3
DTSTAMP:20260422T180404Z
URL:http://business.etowahchamber.org/events/details/moultrie-toyota-and-moultrie-nissan-annual-golf-tournament-to-benefit-united-way-of-etowah-county-05-08-2012-381464
END:VEVENT

END:VCALENDAR
