BEGIN:VCALENDAR
VERSION:2.0
PRODID:-//ChamberMaster//Event Calendar 2.0//EN
METHOD:PUBLISH
X-PUBLISHED-TTL:P3D
REFRESH-INTERVAL:P3D
CALSCALE:GREGORIAN
BEGIN:VEVENT
DTSTART;VALUE=DATE:20230331
DTEND;VALUE=DATE:20230401
TRANSP:TRANSPARENT
X-MICROSOFT-CDO-ALLDAYEVENT:TRUE
SUMMARY:Move Alabama: Super Stroll
DESCRIPTION:Move Alabama: Super Stroll\n\n\n\nMarch 11th at Moragne Park\n\n\n\nMarch 31st at Gadsden Public Library\n\n\n\nApril 15th at Noccalula Park\n\n\n\nRead along to our Super Hero book as you stroll through the park.\n\nHave more time? Double back through to complete excercises on your way back around.\n\n\n\nMove Alabama through your Etowah County Extension Office. Follow on social media for updates!\n\n\n\nFind local updates by following this link:\n\nLocal Updates\n\n\n\nFind the Move Alabama Community by following this link:\n\nMove Alabama Community
X-ALT-DESC;FMTTYPE=text/html:<span style="font-size:16px\;"><span style="font-family:arial\;">Move Alabama: Super Stroll<br />\n<br />\nMarch 11th at Moragne Park<br />\n<br />\n<u><strong>March 31st at Gadsden Public Library</strong></u><br />\n<br />\nApril 15th at Noccalula Park<br />\n<br />\nRead along to our Super Hero book as you stroll through the park.<br />\nHave more time? Double back through to complete excercises on your way back around.<br />\n<br />\nMove Alabama through your Etowah County Extension Office. Follow on social media for updates!<br />\n<br />\nFind local updates by following this link:<br />\n<strong><a href="https://www.facebook.com/EtowahCountyExtension/"><span style="color:#0000FF\;">Local Updates</span></a></strong></span></span><br />\n<br />\n<span style="font-size:16px\;"><span style="font-family:arial\;">Find the Move Alabama Community by following this link:</span><br />\n<span style="font-family:arial\;"><strong><a href="https://www.facebook.com/groups/366559344914871/?_rdr"><span style="color:#0000FF\;">Move Alabama Community</span></a></strong></span></span><br />\n&nbsp\;
LOCATION:Gadsden Public Library
UID:e.1432.406181
SEQUENCE:3
DTSTAMP:20260419T124746Z
URL:http://business.etowahchamber.org/events/details/move-alabama-super-stroll-406181
END:VEVENT

END:VCALENDAR
