BEGIN:VCALENDAR
VERSION:2.0
PRODID:-//ChamberMaster//Event Calendar 2.0//EN
METHOD:PUBLISH
X-PUBLISHED-TTL:P3D
REFRESH-INTERVAL:P3D
CALSCALE:GREGORIAN
BEGIN:VEVENT
DTSTART;VALUE=DATE:20120907
DTEND;VALUE=DATE:20120914
TRANSP:TRANSPARENT
X-MICROSOFT-CDO-ALLDAYEVENT:TRUE
SUMMARY:Movie Showtimes
DESCRIPTION:NEW THIS WEEK!\n\nTHE WORDS\n\nTHE COLD LIGHT OF DAY\n\n\n\nFRIDAY 09/07/2012 - THURSDAY 09/13/2012\n\n*3D PARANORMAN     PG\n\n 4:40p\n\n*HOPE SPRINGS     PG13\n\n 12:00p     2:25p     4:50p     7:15p     9:40p\n\n*LAWLESS     R\n\n 12:30p     3:30p     6:30p     9:30p\n\n*SPARKLE     PG13\n\n 12:15p     3:05p     6:05p     9:30p\n\n*THE COLD LIGHT OF DAY     PG13\n\n 12:00p     2:20p     4:40p     7:00p     9:15p\n\n*THE POSSESSION     PG13\n\n 12:00p     2:20p     4:40p     7:05p     9:30p\n\n*THE WORDS     PG13\n\n 12:05p     3:30p     6:30p     9:05p\n\n2016: OBAMA'S AMERICA    PG\n\n 12:00p     2:15p     4:35p     6:55p     9:15p\n\n2D BRAVE    PG\n\n 12:10p     2:40p     5:15p\n\n2D PARANORMAN    PG\n\n 12:00p     2:20p     7:00p     9:20p\n\n2D THE AVENGERS    PG13\n\n 7:45p\n\nDIARY OF A WIMPY KID: DOG DAYS     PG\n\n 12:10p     2:30p     4:50p     7:10p     9:30p\n\nHIT AND RUN     R\n\n 12:00p     2:20p     4:40p     7:05p     9:35p\n\nODD LIFE OF TIMOTHY GREEN OPEN CAPTION     PG\n\n 12:15p\n\nTHE BOURNE LEGACY    PG13\n\n 12:00p     3:00p     6:00p     9:00p\n\nTHE CAMPAIGN     R\n\n 12:30p     2:55p     5:10p     7:25p     9:40p\n\nTHE DARK KNIGHT RISES    PG13\n\n 12:45p     4:20p     8:00p\n\nTHE EXPENDABLES 2    R\n\n 12:20p     2:55p     5:45p     8:30p\n\nTHE ODD LIFE OF TIMOTHY GREEN     PG\n\n 2:55p     5:30p     8:00p
X-ALT-DESC;FMTTYPE=text/html:<font color="#3f3151" face="Arial" size="3" style="font-size: 12pt"><b><u>NEW THIS WEEK!</u><br />\nTHE WORDS<br />\nTHE COLD LIGHT OF DAY</b><br />\n<br />\n<u><b>FRIDAY 09/07/2012 - THURSDAY 09/13/2012</b></u><br />\n*3D PARANORMAN&nbsp\;&nbsp\;&nbsp\;&nbsp\; PG<br />\n&nbsp\;4:40p<br />\n*HOPE SPRINGS&nbsp\;&nbsp\;&nbsp\;&nbsp\; PG13<br />\n&nbsp\;12:00p&nbsp\;&nbsp\;&nbsp\;&nbsp\;&nbsp\;2:25p&nbsp\;&nbsp\;&nbsp\;&nbsp\;&nbsp\;4:50p&nbsp\;&nbsp\;&nbsp\;&nbsp\;&nbsp\;7:15p&nbsp\;&nbsp\;&nbsp\;&nbsp\;&nbsp\;9:40p<br />\n*LAWLESS&nbsp\;&nbsp\;&nbsp\;&nbsp\; R<br />\n&nbsp\;12:30p&nbsp\;&nbsp\;&nbsp\;&nbsp\;&nbsp\;3:30p&nbsp\;&nbsp\;&nbsp\;&nbsp\;&nbsp\;6:30p&nbsp\;&nbsp\;&nbsp\;&nbsp\;&nbsp\;9:30p<br />\n*SPARKLE&nbsp\;&nbsp\;&nbsp\;&nbsp\; PG13<br />\n&nbsp\;12:15p&nbsp\;&nbsp\;&nbsp\;&nbsp\;&nbsp\;3:05p&nbsp\;&nbsp\;&nbsp\;&nbsp\;&nbsp\;6:05p&nbsp\;&nbsp\;&nbsp\;&nbsp\;&nbsp\;9:30p<br />\n*THE COLD LIGHT OF DAY&nbsp\;&nbsp\;&nbsp\;&nbsp\; PG13<br />\n&nbsp\;12:00p&nbsp\;&nbsp\;&nbsp\;&nbsp\;&nbsp\;2:20p&nbsp\;&nbsp\;&nbsp\;&nbsp\;&nbsp\;4:40p&nbsp\;&nbsp\;&nbsp\;&nbsp\;&nbsp\;7:00p&nbsp\;&nbsp\;&nbsp\;&nbsp\;&nbsp\;9:15p<br />\n*THE POSSESSION&nbsp\;&nbsp\;&nbsp\;&nbsp\; PG13<br />\n&nbsp\;12:00p&nbsp\;&nbsp\;&nbsp\;&nbsp\;&nbsp\;2:20p&nbsp\;&nbsp\;&nbsp\;&nbsp\;&nbsp\;4:40p&nbsp\;&nbsp\;&nbsp\;&nbsp\;&nbsp\;7:05p&nbsp\;&nbsp\;&nbsp\;&nbsp\;&nbsp\;9:30p<br />\n*THE WORDS&nbsp\;&nbsp\;&nbsp\;&nbsp\; PG13<br />\n&nbsp\;12:05p&nbsp\;&nbsp\;&nbsp\;&nbsp\;&nbsp\;3:30p&nbsp\;&nbsp\;&nbsp\;&nbsp\;&nbsp\;6:30p&nbsp\;&nbsp\;&nbsp\;&nbsp\;&nbsp\;9:05p<br />\n2016: OBAMA&#39\;S AMERICA&nbsp\;&nbsp\;&nbsp\; PG<br />\n&nbsp\;12:00p&nbsp\;&nbsp\;&nbsp\;&nbsp\;&nbsp\;2:15p&nbsp\;&nbsp\;&nbsp\;&nbsp\;&nbsp\;4:35p&nbsp\;&nbsp\;&nbsp\;&nbsp\;&nbsp\;6:55p&nbsp\;&nbsp\;&nbsp\;&nbsp\;&nbsp\;9:15p<br />\n2D BRAVE&nbsp\;&nbsp\;&nbsp\; PG<br />\n&nbsp\;12:10p&nbsp\;&nbsp\;&nbsp\;&nbsp\;&nbsp\;2:40p&nbsp\;&nbsp\;&nbsp\;&nbsp\;&nbsp\;5:15p<br />\n2D PARANORMAN&nbsp\;&nbsp\;&nbsp\; PG<br />\n&nbsp\;12:00p&nbsp\;&nbsp\;&nbsp\;&nbsp\;&nbsp\;2:20p&nbsp\;&nbsp\;&nbsp\;&nbsp\;&nbsp\;7:00p&nbsp\;&nbsp\;&nbsp\;&nbsp\;&nbsp\;9:20p<br />\n2D THE AVENGERS&nbsp\;&nbsp\;&nbsp\; PG13<br />\n&nbsp\;7:45p<br />\nDIARY OF A WIMPY KID: DOG DAYS&nbsp\;&nbsp\;&nbsp\;&nbsp\; PG<br />\n&nbsp\;12:10p&nbsp\;&nbsp\;&nbsp\;&nbsp\;&nbsp\;2:30p&nbsp\;&nbsp\;&nbsp\;&nbsp\;&nbsp\;4:50p&nbsp\;&nbsp\;&nbsp\;&nbsp\;&nbsp\;7:10p&nbsp\;&nbsp\;&nbsp\;&nbsp\;&nbsp\;9:30p<br />\nHIT AND RUN&nbsp\;&nbsp\;&nbsp\;&nbsp\; R<br />\n&nbsp\;12:00p&nbsp\;&nbsp\;&nbsp\;&nbsp\;&nbsp\;2:20p&nbsp\;&nbsp\;&nbsp\;&nbsp\;&nbsp\;4:40p&nbsp\;&nbsp\;&nbsp\;&nbsp\;&nbsp\;7:05p&nbsp\;&nbsp\;&nbsp\;&nbsp\;&nbsp\;9:35p<br />\nODD LIFE OF TIMOTHY GREEN <u>OPEN CAPTION</u> &nbsp\; &nbsp\; PG<br />\n&nbsp\;12:15p<br />\nTHE BOURNE LEGACY&nbsp\;&nbsp\;&nbsp\; PG13<br />\n&nbsp\;12:00p&nbsp\;&nbsp\;&nbsp\;&nbsp\;&nbsp\;3:00p&nbsp\;&nbsp\;&nbsp\;&nbsp\;&nbsp\;6:00p&nbsp\;&nbsp\;&nbsp\;&nbsp\;&nbsp\;9:00p<br />\nTHE CAMPAIGN&nbsp\;&nbsp\; &nbsp\; R<br />\n&nbsp\;12:30p&nbsp\;&nbsp\;&nbsp\;&nbsp\;&nbsp\;2:55p&nbsp\;&nbsp\;&nbsp\;&nbsp\;&nbsp\;5:10p&nbsp\;&nbsp\;&nbsp\;&nbsp\;&nbsp\;7:25p&nbsp\;&nbsp\;&nbsp\;&nbsp\;&nbsp\;9:40p<br />\nTHE DARK KNIGHT RISES&nbsp\;&nbsp\;&nbsp\; PG13<br />\n&nbsp\;12:45p&nbsp\;&nbsp\;&nbsp\;&nbsp\;&nbsp\;4:20p&nbsp\;&nbsp\;&nbsp\;&nbsp\;&nbsp\;8:00p<br />\nTHE EXPENDABLES 2&nbsp\;&nbsp\;&nbsp\; R<br />\n&nbsp\;12:20p&nbsp\;&nbsp\;&nbsp\;&nbsp\;&nbsp\;2:55p&nbsp\;&nbsp\;&nbsp\;&nbsp\;&nbsp\;5:45p&nbsp\;&nbsp\;&nbsp\;&nbsp\;&nbsp\;8:30p<br />\nTHE ODD LIFE OF TIMOTHY GREEN&nbsp\;&nbsp\;&nbsp\;&nbsp\; PG<br />\n&nbsp\;2:55p&nbsp\;&nbsp\;&nbsp\;&nbsp\;&nbsp\;5:30p&nbsp\;&nbsp\;&nbsp\;&nbsp\;&nbsp\;8:00p</font>
LOCATION:PREMIERE CINEMA 16 IN THE GADSDEN MALL
UID:e.1432.382151
SEQUENCE:3
DTSTAMP:20260422T231732Z
URL:http://business.etowahchamber.org/events/details/movie-showtimes-09-07-2012-382151
END:VEVENT

END:VCALENDAR
