BEGIN:VCALENDAR
VERSION:2.0
PRODID:-//ChamberMaster//Event Calendar 2.0//EN
METHOD:PUBLISH
X-PUBLISHED-TTL:P3D
REFRESH-INTERVAL:P3D
CALSCALE:GREGORIAN
BEGIN:VEVENT
DTSTART:20130720T190000Z
DTEND:20130720T213000Z
X-MICROSOFT-CDO-ALLDAYEVENT:FALSE
SUMMARY:My Masterpiece Art Studio
DESCRIPTION:My Masterpiece Art Studio's First Art Show\, enjoy Food\, Awards\, Silent Auction\, for ages 7-70.
X-ALT-DESC;FMTTYPE=text/html:My Masterpiece Art Studio&#39\;s First Art Show\, enjoy Food\, Awards\, Silent Auction\, for ages 7-70.
LOCATION:410 South 3rd Street\, Gadsden
UID:e.1432.383758
SEQUENCE:3
DTSTAMP:20260423T090301Z
URL:http://business.etowahchamber.org/events/details/my-masterpiece-art-studio-07-20-2013-383758
END:VEVENT

END:VCALENDAR
