BEGIN:VCALENDAR
VERSION:2.0
PRODID:-//ChamberMaster//Event Calendar 2.0//EN
METHOD:PUBLISH
X-PUBLISHED-TTL:P3D
REFRESH-INTERVAL:P3D
CALSCALE:GREGORIAN
BEGIN:VEVENT
DTSTART:20201029T230000Z
DTEND:20201030T010000Z
X-MICROSOFT-CDO-ALLDAYEVENT:FALSE
SUMMARY:Nacho Average Training Run for City of Champions Half Marathon & 5K
DESCRIPTION:Getting ready for the Gadsden Runners Club City of Champions Half or maybe you just like running with friends? Come on over! Bring the fam-if they don't run\, they're welcome to hang out at GO and make s'mores by the campfire while they wait on you. We'll have an El Tap nacho bar set up for everyone after the run.\n\n\n\nAlso\, the Ainsley's Angels crew will be here. You can check out their cool running chairs\, see what it's like to push one and learn about how to be a part of what's coming!\n\nHope to see you here!
X-ALT-DESC;FMTTYPE=text/html:<span style="font-size:16px\;"><span style="font-family:arial\;">Getting ready for the Gadsden Runners Club City of Champions Half or maybe you just like running with friends? Come on over! Bring the fam-if they don&#39\;t run\, they&#39\;re welcome to hang out at GO and make s&#39\;mores by the campfire while they wait on you. We&#39\;ll have an El Tap nacho bar set up for everyone after the run.<br />\n<br />\nAlso\, the Ainsley&#39\;s Angels crew will be here. You can check out their cool running chairs\, see what it&#39\;s like to push one and learn about how to be a part of what&#39\;s coming!<br />\nHope to see you here!</span></span>
LOCATION:Gadsden Outfitters
UID:e.1432.403494
SEQUENCE:3
DTSTAMP:20260421T081655Z
URL:http://business.etowahchamber.org/events/details/nacho-average-training-run-for-city-of-champions-half-marathon-5k-403494
END:VEVENT

END:VCALENDAR
