BEGIN:VCALENDAR
VERSION:2.0
PRODID:-//ChamberMaster//Event Calendar 2.0//EN
METHOD:PUBLISH
X-PUBLISHED-TTL:P3D
REFRESH-INTERVAL:P3D
CALSCALE:GREGORIAN
BEGIN:VEVENT
DTSTART:20130412T190000Z
DTEND:20130412T210000Z
X-MICROSOFT-CDO-ALLDAYEVENT:FALSE
SUMMARY:National Prosthodontics Public Seminar
DESCRIPTION:National Prosthodontics Awareness Week April 7-13th. \n\nFREE Public information seminar on FRIDAY April 12th\n\nfrom 2:00pm until 4:00pm at\n\nGadsden Regional Medical Center Building 500\n\npresented by Dr. Roger Allen\, prosthodontist
X-ALT-DESC;FMTTYPE=text/html:<span style="font-size: 10pt\;"><span style="font-family: tahoma\,sans-serif\;">&nbsp\;<br />\nNational Prosthodontics Awareness Week April 7-13th.&nbsp\;<br />\nFREE Public information seminar on FRIDAY April 12th<br />\nfrom 2:00pm until 4:00pm at<br />\nGadsden Regional Medical Center Building 500<br />\npresented by Dr. Roger Allen\, prosthodontist<br />\n&nbsp\;</span></span><br />\n<br />\n
LOCATION:Gadsden Regional Medical Center
UID:e.1432.383165
SEQUENCE:3
DTSTAMP:20260423T082408Z
URL:http://business.etowahchamber.org/events/details/national-prosthodontics-public-seminar-04-12-2013-383165
END:VEVENT

END:VCALENDAR
