BEGIN:VCALENDAR
VERSION:2.0
PRODID:-//ChamberMaster//Event Calendar 2.0//EN
METHOD:PUBLISH
X-PUBLISHED-TTL:P3D
REFRESH-INTERVAL:P3D
CALSCALE:GREGORIAN
BEGIN:VEVENT
DTSTART:20120918T200000Z
DTEND:20120918T223000Z
X-MICROSOFT-CDO-ALLDAYEVENT:FALSE
SUMMARY:New Business Workshop
DESCRIPTION:The Alabama Department of Revenue is providing a "New Business Workshop" for new business owners.  We understand that the tax structure and filing requirements can appear complicated and confusing to new business owners.  The workshops will provide you with a brief but comprehensive overview of Alabama taxes\, your tax obligations\, the forms required\, electronic filing requirements and others.  You will make contacts with Departmental employees\, receive a comprehensive booklet that outlines the various taxes and includes phone numbers and web site addresses.  Bookkeepers and Office Managers are also invited to attend.
X-ALT-DESC;FMTTYPE=text/html:The Alabama Department of Revenue is providing a &quot\;New Business Workshop&quot\; for new business owners. &nbsp\;We understand that the tax structure and filing requirements can appear complicated and confusing to new business owners. &nbsp\;The workshops will provide you with a brief but comprehensive overview of Alabama taxes\, your tax obligations\, the forms required\, electronic filing requirements and others. &nbsp\;You will make contacts with Departmental employees\, receive a comprehensive booklet that outlines the various taxes and includes phone numbers and web site addresses. &nbsp\;Bookkeepers and Office Managers are also invited to attend. &nbsp\;
LOCATION:Elliott Community Center 2827 West Meighan Blvd Gadsden\, AL 35904 For more information call 256-547-0554 Ext 230
UID:e.1432.382756
SEQUENCE:3
DTSTAMP:20260422T231455Z
URL:http://business.etowahchamber.org/events/details/new-business-workshop-09-18-2012-382756
END:VEVENT

END:VCALENDAR
