BEGIN:VCALENDAR
VERSION:2.0
PRODID:-//ChamberMaster//Event Calendar 2.0//EN
METHOD:PUBLISH
X-PUBLISHED-TTL:P3D
REFRESH-INTERVAL:P3D
CALSCALE:GREGORIAN
BEGIN:VEVENT
DTSTART:20140927T130000Z
DTEND:20140927T180000Z
X-MICROSOFT-CDO-ALLDAYEVENT:FALSE
SUMMARY:Northeast Alabama Heart Walk
DESCRIPTION:Join us for the Northeast Alabama Heart Walk on Saturday\, September 27\, 2014! The festivities kick off at 8 a.m. at the YMCA of Coosa Valley in Gadsden. This free\, family-friendly event is sure to be a good time! Visit www.nealheartwalk.org for more information.
X-ALT-DESC;FMTTYPE=text/html:Join us for the Northeast Alabama Heart Walk on Saturday\, September 27\, 2014! The festivities kick off at 8 a.m. at the YMCA of Coosa Valley in Gadsden. This free\, family-friendly event is sure to be a good time! Visit <a href="http://www.nealheartwalk.org">www.nealheartwalk.org</a> for more information.
LOCATION:YMCA of the Coosa Valley 100 Walnut Street Gadsden\, AL
UID:e.1432.384994
SEQUENCE:3
DTSTAMP:20260422T143925Z
URL:http://business.etowahchamber.org/events/details/northeast-alabama-heart-walk-09-27-2014-384994
END:VEVENT

END:VCALENDAR
