BEGIN:VCALENDAR
VERSION:2.0
PRODID:-//ChamberMaster//Event Calendar 2.0//EN
METHOD:PUBLISH
X-PUBLISHED-TTL:P3D
REFRESH-INTERVAL:P3D
CALSCALE:GREGORIAN
BEGIN:VEVENT
DTSTART:20131019T130000Z
DTEND:20131019T160000Z
X-MICROSOFT-CDO-ALLDAYEVENT:FALSE
SUMMARY:Northeast Alabama Heart Walk
DESCRIPTION:Heart disease is the #1 killer of Americans and stroke is the #4 killer\, meaning these diseases will\, unfortunately\, have an impact on many in our community. The American Heart Association (AHA) is focused on educating as many people as possible on the signs and symptoms of heart disease and stroke\, as well as ways they can be prevented. One of the ways the AHA does this is through the Northeast Alabama Heart Walk which takes place in October each year. The 2013 Heart Walk will take place on Saturday\, October 19th. Location TBD. Festivities begin at 8:00 a.m. and include music\, refreshments\, kid zone with toys and games\, health screenings and healthy living information\, a dedicated survivor area\, 3 mile walk and much more. The Heart Walk allows the AHA to work in companies and the community to educate\, as well as raise life-saving awareness and funds\, and we hope to see you there!
X-ALT-DESC;FMTTYPE=text/html:Heart disease is the #1 killer of Americans and stroke is the #4 killer\, meaning these diseases will\, unfortunately\, have an impact on many in our community. The American Heart Association (AHA) is focused on educating as many people as possible on the signs and symptoms of heart disease and stroke\, as well as ways they can be prevented. One of the ways the AHA does this is through the Northeast Alabama Heart Walk which takes place in October each year. The 2013 Heart Walk will take place on Saturday\, October 19th. Location TBD. Festivities begin at 8:00 a.m. and include music\, refreshments\, kid zone with toys and games\, health screenings and healthy living information\, a dedicated survivor area\, 3 mile walk and much more. The Heart Walk allows the AHA to work in companies and the community to educate\, as well as raise life-saving awareness and funds\, and we hope to see you there!
LOCATION:TBD
UID:e.1432.383299
SEQUENCE:3
DTSTAMP:20260423T052407Z
URL:http://business.etowahchamber.org/events/details/northeast-alabama-heart-walk-10-19-2013-383299
END:VEVENT

END:VCALENDAR
