BEGIN:VCALENDAR
VERSION:2.0
PRODID:-//ChamberMaster//Event Calendar 2.0//EN
METHOD:PUBLISH
X-PUBLISHED-TTL:P3D
REFRESH-INTERVAL:P3D
CALSCALE:GREGORIAN
BEGIN:VEVENT
DTSTART:20150307T000000Z
DTEND:20150307T040000Z
X-MICROSOFT-CDO-ALLDAYEVENT:FALSE
SUMMARY:Northeast Alabama Kidney Association dinner
DESCRIPTION:Northeast Alabama Kidney Association\n\n\n\n$125 donation for ticket holder and one guest\n\nFriday\, March 6\, 2015\n\nConvention Hall\n\nDoors open at 6 p.m.
X-ALT-DESC;FMTTYPE=text/html:Northeast Alabama Kidney Association<br />\n<br />\n$125 donation for ticket holder and one guest<br />\nFriday\, March 6\, 2015<br />\nConvention Hall<br />\nDoors open at 6 p.m.
LOCATION:Gadsden Convention Hall
UID:e.1432.385656
SEQUENCE:3
DTSTAMP:20260422T064436Z
URL:http://business.etowahchamber.org/events/details/northeast-alabama-kidney-association-dinner-03-06-2015-385656
END:VEVENT

END:VCALENDAR
