BEGIN:VCALENDAR
VERSION:2.0
PRODID:-//ChamberMaster//Event Calendar 2.0//EN
METHOD:PUBLISH
X-PUBLISHED-TTL:P3D
REFRESH-INTERVAL:P3D
CALSCALE:GREGORIAN
BEGIN:VEVENT
DTSTART:20140627T133000Z
DTEND:20140627T220000Z
X-MICROSOFT-CDO-ALLDAYEVENT:FALSE
SUMMARY:OLLI - Antique Shopping in the Magic City
DESCRIPTION:Looking for that special item or collectible is fun and exciting. Join Randy as he explores the Birmingham area antiques market with stops at a few notable shops. Remember\, one man's junk is another man's treasure! Osher Lifelong Learning Institute annual membership is required for course registration. As a member who has paid the $30 course fee\, you may register for as many courses as you desire. Fee: $14 with Dutch Treat Lunch
X-ALT-DESC;FMTTYPE=text/html:Looking for that special item or collectible is fun and exciting. Join Randy as he explores the Birmingham area antiques market with stops at a few notable shops. Remember\, one man&#39\;s junk is another man&#39\;s treasure! Osher Lifelong Learning Institute annual membership is required for course registration. As a member who has paid the $30 course fee\, you may register for as many courses as you desire. Fee: $14 with Dutch Treat Lunch
LOCATION:The Gadsden Center 121 N. 21st St. Gadsden\, AL 35901
UID:e.1432.384704
SEQUENCE:3
DTSTAMP:20260422T184442Z
URL:http://business.etowahchamber.org/events/details/olli-antique-shopping-in-the-magic-city-06-27-2014-384704
END:VEVENT

END:VCALENDAR
