BEGIN:VCALENDAR
VERSION:2.0
PRODID:-//ChamberMaster//Event Calendar 2.0//EN
METHOD:PUBLISH
X-PUBLISHED-TTL:P3D
REFRESH-INTERVAL:P3D
CALSCALE:GREGORIAN
BEGIN:VEVENT
DTSTART:20120816T210000Z
DTEND:20120816T230000Z
X-MICROSOFT-CDO-ALLDAYEVENT:FALSE
SUMMARY:OLLI at University of Alabama Welcome Reception and Information Session
DESCRIPTION:The Gadsden Center for Osher Lifelong Learning Institute for the University of Alabama would like to invite you to their Welcome Reception and Information Session at the Gadsden OLLI August 16 from 4 - 6 pm. This is a free event! Come see what mature adults in your community are learning! "Learning to Live and Living to Learn!"
X-ALT-DESC;FMTTYPE=text/html:The Gadsden Center for Osher Lifelong Learning Institute for the University of Alabama would like to invite you to their Welcome Reception and Information Session at the Gadsden OLLI August 16 from 4 - 6 pm. This is a free event! Come see what mature adults in your community are learning! &quot\;Learning to Live and Living to Learn!&quot\;
LOCATION:OLLI Gadsden Center
UID:e.1432.381900
SEQUENCE:3
DTSTAMP:20260422T220024Z
URL:http://business.etowahchamber.org/events/details/olli-at-university-of-alabama-welcome-reception-and-information-session-08-16-2012-381900
END:VEVENT

END:VCALENDAR
