BEGIN:VCALENDAR
VERSION:2.0
PRODID:-//ChamberMaster//Event Calendar 2.0//EN
METHOD:PUBLISH
X-PUBLISHED-TTL:P3D
REFRESH-INTERVAL:P3D
CALSCALE:GREGORIAN
BEGIN:VEVENT
DTSTART:20140703T143000Z
DTEND:20140731T163000Z
X-MICROSOFT-CDO-ALLDAYEVENT:FALSE
SUMMARY:OLLI - Genealogy Club
DESCRIPTION:Regardless of where you are in the search for your roots\, Craig will provide you with the sources and links to your past. You will use the latest software and Internet sites. Was your Uncle Fred famous or infamous? Find out here. This class is designed for those already familiar with online research. Previous computer experience is a MUST! Osher Lifelong Learning Institute annual membership is required for course registration. As a member who has paid the $30 course fee\, you may register for as man courses as you desire.
X-ALT-DESC;FMTTYPE=text/html:Regardless of where you are in the search for your roots\, Craig will provide you with the sources and links to your past. You will use the latest software and Internet sites. Was your Uncle Fred famous or infamous? Find out here. This class is designed for those already familiar with online research. Previous computer experience is a MUST! Osher Lifelong Learning Institute annual membership is required for course registration. As a member who has paid the $30 course fee\, you may register for as man courses as you desire.
LOCATION:The Gadsden Center 121 N. 21st St. Gadsden\, AL 35901
UID:e.1432.384698
SEQUENCE:3
DTSTAMP:20260422T171538Z
URL:http://business.etowahchamber.org/events/details/olli-genealogy-club-07-03-2014-384698
END:VEVENT

END:VCALENDAR
