BEGIN:VCALENDAR
VERSION:2.0
PRODID:-//ChamberMaster//Event Calendar 2.0//EN
METHOD:PUBLISH
X-PUBLISHED-TTL:P3D
REFRESH-INTERVAL:P3D
CALSCALE:GREGORIAN
BEGIN:VEVENT
DTSTART:20140718T213000Z
DTEND:20140719T020000Z
X-MICROSOFT-CDO-ALLDAYEVENT:FALSE
SUMMARY:OLLI - Grease
DESCRIPTION:Grease - Whole Backstage Theatre - Guntersville\, Alabama. This is the story of Sandy Olsen\, a goody two-shoes from Australia and Danny Zuko\, the head T-Bird from Rydell High. When the two meet during the summer\, they fall in love. When summer ends\, the two think they will never see each other again. However\, they are both wrong! Osher Lifelong Learning Institute annual membership is required for course registration. As a member who has paid the $30 course fee\, you may register for as many courses as you desire. Trip fee is $21.
X-ALT-DESC;FMTTYPE=text/html:Grease - Whole Backstage Theatre - Guntersville\, Alabama. This is the story of Sandy Olsen\, a goody two-shoes from Australia and Danny Zuko\, the head T-Bird from Rydell High. When the two meet during the summer\, they fall in love. When summer ends\, the two think they will never see each other again. However\, they are both wrong! Osher Lifelong Learning Institute annual membership is required for course registration. As a member who has paid the $30 course fee\, you may register for as many courses as you desire. Trip fee is $21.
LOCATION:The Gadsden Center
UID:e.1432.384705
SEQUENCE:3
DTSTAMP:20260422T171157Z
URL:http://business.etowahchamber.org/events/details/olli-grease-07-18-2014-384705
END:VEVENT

END:VCALENDAR
