BEGIN:VCALENDAR
VERSION:2.0
PRODID:-//ChamberMaster//Event Calendar 2.0//EN
METHOD:PUBLISH
X-PUBLISHED-TTL:P3D
REFRESH-INTERVAL:P3D
CALSCALE:GREGORIAN
BEGIN:VEVENT
DTSTART:20140702T150000Z
DTEND:20140730T163000Z
X-MICROSOFT-CDO-ALLDAYEVENT:FALSE
SUMMARY:OLLI - History Over Easy
DESCRIPTION:This class is one of a kind. Each week a different topic is discussed (and we intentionally stay away from current politics and religion to keep things light and fun). The Internet is available for reference so expect a wild and sometimes controversial ride. This is a really fresh approach to history! Osher Lifelong Learning Institute annual membership is required for course registration. As a member who has paid the $30 course fee\, you may register for as many courses as you desire.
X-ALT-DESC;FMTTYPE=text/html:This class is one of a kind. Each week a different topic is discussed (and we intentionally stay away from current politics and religion to keep things light and fun). The Internet is available for reference so expect a wild and sometimes controversial ride. This is a really fresh approach to history! Osher Lifelong Learning Institute annual membership is required for course registration. As a member who has paid the $30 course fee\, you may register for as many courses as you desire.
LOCATION:The Gadsden Center 121 N. 21st St. Gadsden\, AL 35901
UID:e.1432.384695
SEQUENCE:3
DTSTAMP:20260422T182437Z
URL:http://business.etowahchamber.org/events/details/olli-history-over-easy-07-02-2014-384695
END:VEVENT

END:VCALENDAR
