BEGIN:VCALENDAR
VERSION:2.0
PRODID:-//ChamberMaster//Event Calendar 2.0//EN
METHOD:PUBLISH
X-PUBLISHED-TTL:P3D
REFRESH-INTERVAL:P3D
CALSCALE:GREGORIAN
BEGIN:VEVENT
DTSTART:20140624T150000Z
DTEND:20140624T163000Z
X-MICROSOFT-CDO-ALLDAYEVENT:FALSE
SUMMARY:OLLI - History Through Dowton Abbey
DESCRIPTION:We will watch all four seasons of Downton Abbey and set discussions on its historical content. This class may continue until the series has been covered. Osher Lifelong Learning Institute annual membership is required for course registration. As a member who has paid the $30 course fee\, you may register for as many courses as you desire.
X-ALT-DESC;FMTTYPE=text/html:We will watch all four seasons of Downton Abbey and set discussions on its historical content. This class may continue until the series has been covered. Osher Lifelong Learning Institute annual membership is required for course registration. As a member who has paid the $30 course fee\, you may register for as many courses as you desire.
LOCATION:Osher Lifelong Learning Institute annual membership is required for course registration. As a member who has paid the $30 course fee\, you may register for as many courses as you desire.
UID:e.1432.384683
SEQUENCE:3
DTSTAMP:20260422T182609Z
URL:http://business.etowahchamber.org/events/details/olli-history-through-dowton-abbey-06-24-2014-384683
END:VEVENT

END:VCALENDAR
