BEGIN:VCALENDAR
VERSION:2.0
PRODID:-//ChamberMaster//Event Calendar 2.0//EN
METHOD:PUBLISH
X-PUBLISHED-TTL:P3D
REFRESH-INTERVAL:P3D
CALSCALE:GREGORIAN
BEGIN:VEVENT
DTSTART:20140623T180000Z
DTEND:20140623T193000Z
X-MICROSOFT-CDO-ALLDAYEVENT:FALSE
SUMMARY:OLLI - Introduction to Computers
DESCRIPTION:For the novice computer user\, this course covers all the basics from turning the computer on to primary keyboarding and functions along with instruction on how to use a mouse. The series is designed for the absolute beginner and offers the opportunity to experience the World Wide Web. Osher Lifelong Learning Institute annual membership is required for course registration. As a member who has paid the $30 course fee\, you may register for as many courses as you desire.
X-ALT-DESC;FMTTYPE=text/html:For the novice computer user\, this course covers all the basics from turning the computer on to primary keyboarding and functions along with instruction on how to use a mouse. The series is designed for the absolute beginner and offers the opportunity to experience the World Wide Web. Osher Lifelong Learning Institute annual membership is required for course registration. As a member who has paid the $30 course fee\, you may register for as many courses as you desire.
LOCATION:Gadsden Public Library
UID:e.1432.384678
SEQUENCE:3
DTSTAMP:20260422T182446Z
URL:http://business.etowahchamber.org/events/details/olli-introduction-to-computers-06-23-2014-384678
END:VEVENT

END:VCALENDAR
