BEGIN:VCALENDAR
VERSION:2.0
PRODID:-//ChamberMaster//Event Calendar 2.0//EN
METHOD:PUBLISH
X-PUBLISHED-TTL:P3D
REFRESH-INTERVAL:P3D
CALSCALE:GREGORIAN
BEGIN:VEVENT
DTSTART:20140701T200000Z
DTEND:20140722T213000Z
X-MICROSOFT-CDO-ALLDAYEVENT:FALSE
SUMMARY:OLLI - Local History Through Photographs
DESCRIPTION:Mike takes a look at the people\, places\, and events that had an impact on the city of Gadsden. We will peek into the early years when Gadsden was just a stop on the stagecoach route. This will be a fascinating look at history through rarely seen and never before published photographs. Osher Lifelong Learning Institute annual membership is required for course registration. As a member who has paid the $30 course fee\, you may register for as many courses as you desire.
X-ALT-DESC;FMTTYPE=text/html:Mike takes a look at the people\, places\, and events that had an impact on the city of Gadsden. We will peek into the early years when Gadsden was just a stop on the stagecoach route. This will be a fascinating look at history through rarely seen and never before published photographs. Osher Lifelong Learning Institute annual membership is required for course registration. As a member who has paid the $30 course fee\, you may register for as many courses as you desire.
LOCATION:The Gadsden Center 121 N. 21st St. Gadsden\, AL 35901
UID:e.1432.384694
SEQUENCE:3
DTSTAMP:20260422T171621Z
URL:http://business.etowahchamber.org/events/details/olli-local-history-through-photographs-07-01-2014-384694
END:VEVENT

END:VCALENDAR
