BEGIN:VCALENDAR
VERSION:2.0
PRODID:-//ChamberMaster//Event Calendar 2.0//EN
METHOD:PUBLISH
X-PUBLISHED-TTL:P3D
REFRESH-INTERVAL:P3D
CALSCALE:GREGORIAN
BEGIN:VEVENT
DTSTART:20140721T180000Z
DTEND:20140721T193000Z
X-MICROSOFT-CDO-ALLDAYEVENT:FALSE
SUMMARY:OLLI - Make it Macrame
DESCRIPTION:Macram  or macram  is a form of textile-making using knotting rather than weaving or knitting. Its primary knots are the square knot and forms of "hitching" - full hitch and double half hitches. In this class we will make fours pieces of jewelry. $20 Material Fee - Osher Lifelong Learning Institute annual membership is required for course registration. As a member who has paid the $30 course fee\, you may register for as many courses as you desire.
X-ALT-DESC;FMTTYPE=text/html:Macram&eacute\; or macram&eacute\; is a form of textile-making using knotting rather than weaving or knitting. Its primary knots are the square knot and forms of &quot\;hitching&quot\; - full hitch and double half hitches. In this class we will make fours pieces of jewelry. $20 Material Fee - Osher Lifelong Learning Institute annual membership is required for course registration. As a member who has paid the $30 course fee\, you may register for as many courses as you desire.
LOCATION:The Gadsden Center
UID:e.1432.384682
SEQUENCE:3
DTSTAMP:20260422T171044Z
URL:http://business.etowahchamber.org/events/details/olli-make-it-macrame-07-21-2014-384682
END:VEVENT

END:VCALENDAR
