BEGIN:VCALENDAR
VERSION:2.0
PRODID:-//ChamberMaster//Event Calendar 2.0//EN
METHOD:PUBLISH
X-PUBLISHED-TTL:P3D
REFRESH-INTERVAL:P3D
CALSCALE:GREGORIAN
BEGIN:VEVENT
DTSTART:20140624T180000Z
DTEND:20140624T193000Z
X-MICROSOFT-CDO-ALLDAYEVENT:FALSE
SUMMARY:OLLI - Merry Old England? Me thinks Not!
DESCRIPTION:Join Father Bean for a tour of four classics of English literature. From the mystery and suspense of Dickens\, the elaborate courtship rituals of Jane Austen\, the ghostly atmosphere of Emily Bronte\, to the lost souls of Thomas Hardy. This course will not disappoint.
X-ALT-DESC;FMTTYPE=text/html:Join Father Bean for a tour of four classics of English literature. From the mystery and suspense of Dickens\, the elaborate courtship rituals of Jane Austen\, the ghostly atmosphere of Emily Bronte\, to the lost souls of Thomas Hardy. This course will not disappoint.
LOCATION:The Gadsden Center
UID:e.1432.384689
SEQUENCE:3
DTSTAMP:20260422T195011Z
URL:http://business.etowahchamber.org/events/details/olli-merry-old-england-me-thinks-not-06-24-2014-384689
END:VEVENT

END:VCALENDAR
