BEGIN:VCALENDAR
VERSION:2.0
PRODID:-//ChamberMaster//Event Calendar 2.0//EN
METHOD:PUBLISH
X-PUBLISHED-TTL:P3D
REFRESH-INTERVAL:P3D
CALSCALE:GREGORIAN
BEGIN:VEVENT
DTSTART:20140623T150000Z
DTEND:20140623T163000Z
X-MICROSOFT-CDO-ALLDAYEVENT:FALSE
SUMMARY:OLLI - Monday Morning Sports Club
DESCRIPTION:Need your sports "fix" for the week? Then join the OLLI Sports Club at the Gadsden Public Library for a lively discussion about football\, baseball\, basketball or just about every other sport known to man! We will have special guests drop in and our topics will be ever changing\, but always centered on the sports world. Osher Lifelong Learning Institute annual membership is required for course registration. As a member who has paid the $30 course fee\, you may register for as many courses as you desire.
X-ALT-DESC;FMTTYPE=text/html:Need your sports &quot\;fix&quot\; for the week? Then join the OLLI Sports Club at the Gadsden Public Library for a lively discussion about football\, baseball\, basketball or just about every other sport known to man! We will have special guests drop in and our topics will be ever changing\, but always centered on the sports world. Osher Lifelong Learning Institute annual membership is required for course registration. As a member who has paid the $30 course fee\, you may register for as many courses as you desire.
LOCATION:Gadsden Public Library
UID:e.1432.384677
SEQUENCE:3
DTSTAMP:20260422T195510Z
URL:http://business.etowahchamber.org/events/details/olli-monday-morning-sports-club-06-23-2014-384677
END:VEVENT

END:VCALENDAR
