BEGIN:VCALENDAR
VERSION:2.0
PRODID:-//ChamberMaster//Event Calendar 2.0//EN
METHOD:PUBLISH
X-PUBLISHED-TTL:P3D
REFRESH-INTERVAL:P3D
CALSCALE:GREGORIAN
BEGIN:VEVENT
DTSTART:20140625T150000Z
DTEND:20140702T163000Z
X-MICROSOFT-CDO-ALLDAYEVENT:FALSE
SUMMARY:OLLI - Musical Legends
DESCRIPTION:Paul Simon\, Jackson Browne and James Taylor have influenced our music for years. Each in his own way has written and performed some of the most literate and moving songs in popular music and have defined a genre of songwriting charged with honesty\, emotion\, and personal politics. Each of these legends is a member of the Rock and Roll Hall of Fame. Join Mike for a journey through the lives of these great performers. Osher Lifelong Learning Institute annual membership is required for course registration. As a member who has paid the $30 course fee\, you may register for as many courses as you desire.
X-ALT-DESC;FMTTYPE=text/html:Paul Simon\, Jackson Browne and James Taylor have influenced our music for years. Each in his own way has written and performed some of the most literate and moving songs in popular music and have defined a genre of songwriting charged with honesty\, emotion\, and personal politics. Each of these legends is a member of the Rock and Roll Hall of Fame. Join Mike for a journey through the lives of these great performers. Osher Lifelong Learning Institute annual membership is required for course registration. As a member who has paid the $30 course fee\, you may register for as many courses as you desire.
LOCATION:The Gadsden Center 121 N. 21st St. Gadsden\, AL 35901
UID:e.1432.384696
SEQUENCE:3
DTSTAMP:20260422T171231Z
URL:http://business.etowahchamber.org/events/details/olli-musical-legends-06-25-2014-384696
END:VEVENT

END:VCALENDAR
