BEGIN:VCALENDAR
VERSION:2.0
PRODID:-//ChamberMaster//Event Calendar 2.0//EN
METHOD:PUBLISH
X-PUBLISHED-TTL:P3D
REFRESH-INTERVAL:P3D
CALSCALE:GREGORIAN
BEGIN:VEVENT
DTSTART:20140626T180000Z
DTEND:20140626T193000Z
X-MICROSOFT-CDO-ALLDAYEVENT:FALSE
SUMMARY:OLLI - Navy Traditions
DESCRIPTION:Have you ever wondered about the different bells\, salutes\, and ceremonies in the life of a ship and the phraseology of the service? There is a deep tradition in all these things\; nothing happens by magic. We will learn about the traditions and ceremonies associated with Bells and Watches\, Honors and Salutes\, Special Honors for the USS Arizona and Burial at Sea. Osher Lifelong Learning Institute annual membership is required for course registration. As a member who has paid the $30 course fee\, you may register for as many courses as you desire.
X-ALT-DESC;FMTTYPE=text/html:Have you ever wondered about the different bells\, salutes\, and ceremonies in the life of a ship and the phraseology of the service? There is a deep tradition in all these things\; nothing happens by magic. We will learn about the traditions and ceremonies associated with Bells and Watches\, Honors and Salutes\, Special Honors for the USS Arizona and Burial at Sea. Osher Lifelong Learning Institute annual membership is required for course registration. As a member who has paid the $30 course fee\, you may register for as many courses as you desire.
LOCATION:The Gadsden Center 121 N. 21st St. Gadsden\, AL 35901
UID:e.1432.384700
SEQUENCE:3
DTSTAMP:20260422T184221Z
URL:http://business.etowahchamber.org/events/details/olli-navy-traditions-06-26-2014-384700
END:VEVENT

END:VCALENDAR
