BEGIN:VCALENDAR
VERSION:2.0
PRODID:-//ChamberMaster//Event Calendar 2.0//EN
METHOD:PUBLISH
X-PUBLISHED-TTL:P3D
REFRESH-INTERVAL:P3D
CALSCALE:GREGORIAN
BEGIN:VEVENT
DTSTART:20140717T180000Z
DTEND:20140717T193000Z
X-MICROSOFT-CDO-ALLDAYEVENT:FALSE
SUMMARY:OLLI - Needed Killing Book Series
DESCRIPTION:Bill Fitts is an Alabama author of the Needed Killing series\, cozy mysteries with a southern flair. He and his wife\, Anne Gibbons\, have published He Needed Killing and He Needed Killing Too in both eBooka and paperback formats. Bill and Anne will discuss their experiences in the brave new world of Indie Publishing and Bill will read a few passages from his books. The fourth in the series\, The Deacon Needed Killing\, will be published this year. There will be a questions and answers session at the end of the presentation and books will be available for purchase. Osher Lifelong Learning Institute annual membership is required for course registration. As a member who has paid the $30 course fee\, you may register for as many courses as you desire.
X-ALT-DESC;FMTTYPE=text/html:Bill Fitts is an Alabama author of the Needed Killing series\, cozy mysteries with a southern flair. He and his wife\, Anne Gibbons\, have published He Needed Killing and He Needed Killing Too in both eBooka and paperback formats. Bill and Anne will discuss their experiences in the brave new world of Indie Publishing and Bill will read a few passages from his books. The fourth in the series\, The Deacon Needed Killing\, will be published this year. There will be a questions and answers session at the end of the presentation and books will be available for purchase. Osher Lifelong Learning Institute annual membership is required for course registration. As a member who has paid the $30 course fee\, you may register for as many courses as you desire.
LOCATION:The Gadsden Center 121 N. 21st St. Gadsden\, AL 35901
UID:e.1432.384703
SEQUENCE:3
DTSTAMP:20260422T171215Z
URL:http://business.etowahchamber.org/events/details/olli-needed-killing-book-series-07-17-2014-384703
END:VEVENT

END:VCALENDAR
