BEGIN:VCALENDAR
VERSION:2.0
PRODID:-//ChamberMaster//Event Calendar 2.0//EN
METHOD:PUBLISH
X-PUBLISHED-TTL:P3D
REFRESH-INTERVAL:P3D
CALSCALE:GREGORIAN
BEGIN:VEVENT
DTSTART:20140819T213000Z
DTEND:20140820T000000Z
X-MICROSOFT-CDO-ALLDAYEVENT:FALSE
SUMMARY:OLLI Open House
DESCRIPTION:Come join us for the OLLI open house and fall festival on August 19th\, 2014. Doors open at 4:30 PM for registration\, music\, food\, dancing\, and fun! Enroll in courses\, attend fieldtrips\, and enjoy socials with mature adults that share the same interests as you! Topics include wine tasting\, history\, science\, computer skills\, and much more! View the full calendar of events online at www.olli.ua.edu or call today 205-348-6482 for more information.
X-ALT-DESC;FMTTYPE=text/html:Come join us for the OLLI open house and fall festival on August 19th\, 2014. Doors open at 4:30 PM for registration\, music\, food\, dancing\, and fun! Enroll in courses\, attend fieldtrips\, and enjoy socials with mature adults that share the same interests as you! Topics include wine tasting\, history\, science\, computer skills\, and much more! View the full calendar of events online at www.olli.ua.edu or call today 205-348-6482 for more information.
LOCATION:Bryant Conference Center
UID:e.1432.384873
SEQUENCE:3
DTSTAMP:20260422T160118Z
URL:http://business.etowahchamber.org/events/details/olli-open-house-08-19-2014-384873
END:VEVENT

END:VCALENDAR
