BEGIN:VCALENDAR
VERSION:2.0
PRODID:-//ChamberMaster//Event Calendar 2.0//EN
METHOD:PUBLISH
X-PUBLISHED-TTL:P3D
REFRESH-INTERVAL:P3D
CALSCALE:GREGORIAN
BEGIN:VEVENT
DTSTART:20140703T180000Z
DTEND:20140703T193000Z
X-MICROSOFT-CDO-ALLDAYEVENT:FALSE
SUMMARY:OLLI - Pre-Fourth of July Party
DESCRIPTION:Join us for a celebration of our independence! Enjoy summertime snacks and fellowship with your classmates! This will be a great way to kick off the Fourth of July weekend! Osher Lifelong Learning Institute annual membership is required for course registration. As a member who has paid the $30 course fee\, you may register for as many courses as you desire.
X-ALT-DESC;FMTTYPE=text/html:Join us for a celebration of our independence! Enjoy summertime snacks and fellowship with your classmates! This will be a great way to kick off the Fourth of July weekend! Osher Lifelong Learning Institute annual membership is required for course registration. As a member who has paid the $30 course fee\, you may register for as many courses as you desire.
LOCATION:The Gadsden Center 121 N. 21st St. Gadsden\, AL 35901
UID:e.1432.384701
SEQUENCE:3
DTSTAMP:20260422T171646Z
URL:http://business.etowahchamber.org/events/details/olli-pre-fourth-of-july-party-07-03-2014-384701
END:VEVENT

END:VCALENDAR
