BEGIN:VCALENDAR
VERSION:2.0
PRODID:-//ChamberMaster//Event Calendar 2.0//EN
METHOD:PUBLISH
X-PUBLISHED-TTL:P3D
REFRESH-INTERVAL:P3D
CALSCALE:GREGORIAN
BEGIN:VEVENT
DTSTART:20140709T180000Z
DTEND:20140723T193000Z
X-MICROSOFT-CDO-ALLDAYEVENT:FALSE
SUMMARY:OLLI - Prezi
DESCRIPTION:Prezi is a presentation software designed to give your computer presentations that extra "oomph." Prezi allows the user to pan and zoom\, size\, rotate\, or edit an object. The program is compatible with most computers and web browsers. Join us as we delve deeper into this dramatic presentation software. Osher Lifelong Learning Institute annual membership is required for course registration. As a member who has paid the $30 course fee\, you may register for as many courses as you desire.
X-ALT-DESC;FMTTYPE=text/html:Prezi is a presentation software designed to give your computer presentations that extra &quot\;oomph.&quot\; Prezi allows the user to pan and zoom\, size\, rotate\, or edit an object. The program is compatible with most computers and web browsers. Join us as we delve deeper into this dramatic presentation software. Osher Lifelong Learning Institute annual membership is required for course registration. As a member who has paid the $30 course fee\, you may register for as many courses as you desire.
LOCATION:The Gadsden Center 121 N. 21st St. Gadsden\, AL 35901
UID:e.1432.384697
SEQUENCE:3
DTSTAMP:20260422T171206Z
URL:http://business.etowahchamber.org/events/details/olli-prezi-07-09-2014-384697
END:VEVENT

END:VCALENDAR
