BEGIN:VCALENDAR
VERSION:2.0
PRODID:-//ChamberMaster//Event Calendar 2.0//EN
METHOD:PUBLISH
X-PUBLISHED-TTL:P3D
REFRESH-INTERVAL:P3D
CALSCALE:GREGORIAN
BEGIN:VEVENT
DTSTART:20140710T180000Z
DTEND:20140710T193000Z
X-MICROSOFT-CDO-ALLDAYEVENT:FALSE
SUMMARY:OLLI - Vino 101 Wine Tasting
DESCRIPTION:You can never know too much about the wine you drink. We all know there are good and bad wines. Although\, some say there is no such thing as a bad wine\, some are less desirable. Jay will educate our palates about vines and vintage. Whether you are a red\, white\, or rose lover\, you will learn how the climate and soil can determine the taste of the final product that you drink. A variety of wines will be sampled. Osher Lifelong Learning Institute annual membership is required for course registration. As a member who has paid the $30 course fee\, you may register for as many courses as you desire. Also a $15 material fee will apply.
X-ALT-DESC;FMTTYPE=text/html:You can never know too much about the wine you drink. We all know there are good and bad wines. Although\, some say there is no such thing as a bad wine\, some are less desirable. Jay will educate our palates about vines and vintage. Whether you are a red\, white\, or rose lover\, you will learn how the climate and soil can determine the taste of the final product that you drink. A variety of wines will be sampled. Osher Lifelong Learning Institute annual membership is required for course registration. As a member who has paid the $30 course fee\, you may register for as many courses as you desire. Also a $15 material fee will apply.
LOCATION:The Gadsden Center 121 N. 21st St. Gadsden\, AL 35901
UID:e.1432.384702
SEQUENCE:3
DTSTAMP:20260422T171230Z
URL:http://business.etowahchamber.org/events/details/olli-vino-101-wine-tasting-07-10-2014-384702
END:VEVENT

END:VCALENDAR
