BEGIN:VCALENDAR
VERSION:2.0
PRODID:-//ChamberMaster//Event Calendar 2.0//EN
METHOD:PUBLISH
X-PUBLISHED-TTL:P3D
REFRESH-INTERVAL:P3D
CALSCALE:GREGORIAN
BEGIN:VEVENT
DTSTART:20130509T190000Z
DTEND:20130509T230000Z
X-MICROSOFT-CDO-ALLDAYEVENT:FALSE
SUMMARY:Open House at DaVita
DESCRIPTION:Open House at DaVita\, 300 Medical Center Drive\, Suite 100\, Gadsden\, AL\, 2pm - 6pm.   Enter to play games and win giveaways all while touring our new dialysis center.  Enjoy Refreshments and learn how DaVita's personalized approach to kidney care can improve your quality of life.  Visit DaVita.com\, one of the world's best sources for kidney care information.
X-ALT-DESC;FMTTYPE=text/html:Open House at DaVita\, 300 Medical Center Drive\, Suite 100\, Gadsden\, AL\, 2pm - 6pm. &nbsp\; Enter to play games and win giveaways all while touring our new dialysis center. &nbsp\;Enjoy Refreshments and learn how DaVita&#39\;s personalized approach to kidney care can improve your quality of life. &nbsp\;Visit DaVita.com\, one of the world&#39\;s best sources for kidney care information.<br />\n
LOCATION:DaVita\, 300 Medical Center Drive\, Suite 100\, Gadsden\, AL\, 2pm - 6pm.
UID:e.1432.383261
SEQUENCE:3
DTSTAMP:20260423T094248Z
URL:http://business.etowahchamber.org/events/details/open-house-at-davita-05-09-2013-383261
END:VEVENT

END:VCALENDAR
