BEGIN:VCALENDAR
VERSION:2.0
PRODID:-//ChamberMaster//Event Calendar 2.0//EN
METHOD:PUBLISH
X-PUBLISHED-TTL:P3D
REFRESH-INTERVAL:P3D
CALSCALE:GREGORIAN
BEGIN:VEVENT
DTSTART:20130630T190000Z
DTEND:20130630T210000Z
X-MICROSOFT-CDO-ALLDAYEVENT:FALSE
SUMMARY:Open House for the NEW SOUTHSIDE COMMUNITY CENTER
DESCRIPTION:The City of Southside is having and Open House for the NEW COMMUNITY CENTER and LIBRARY\, Sunday\, June 30th\, 2pm - 4pm\, 2142 US Hwy 77\, Southside.  Located across from Jacks and on the old high school property.  Everyone is welcome to attend and tour the facility.
X-ALT-DESC;FMTTYPE=text/html:The City of Southside is having and Open House for the NEW COMMUNITY CENTER and LIBRARY\, Sunday\, June 30th\, 2pm - 4pm\, 2142 US Hwy 77\, Southside. &nbsp\;Located across from Jacks and on the old high school property. &nbsp\;Everyone is welcome to attend and tour the facility.
LOCATION:2142 US Hwy 77\, Southside (Across from Jacks)
UID:e.1432.383327
SEQUENCE:3
DTSTAMP:20260423T103059Z
URL:http://business.etowahchamber.org/events/details/open-house-for-the-new-southside-community-center-06-30-2013-383327
END:VEVENT

END:VCALENDAR
