BEGIN:VCALENDAR
VERSION:2.0
PRODID:-//ChamberMaster//Event Calendar 2.0//EN
METHOD:PUBLISH
X-PUBLISHED-TTL:P3D
REFRESH-INTERVAL:P3D
CALSCALE:GREGORIAN
BEGIN:VEVENT
DTSTART:20200226T160000Z
DTEND:20200226T170000Z
X-MICROSOFT-CDO-ALLDAYEVENT:FALSE
SUMMARY:Partnering for Prosperity: Entrepreneurship\, Innovation and Incubation Task Team meeting
DESCRIPTION:Entrepreneurship\, Incubation and Innovation\n\nWednesday\, February 26\, 2020\n\n10 am\n\nChamber Board Room
X-ALT-DESC;FMTTYPE=text/html:Entrepreneurship\, Incubation and Innovation<br />\nWednesday\, February 26\, 2020<br />\n10 am<br />\nChamber Board Room<br />\n<br />\n&nbsp\;
LOCATION:Chamber Board Room
UID:e.1432.402725
SEQUENCE:3
DTSTAMP:20260420T011231Z
URL:http://business.etowahchamber.org/events/details/partnering-for-prosperity-entrepreneurship-innovation-and-incubation-task-team-meeting-402725
END:VEVENT

END:VCALENDAR
