BEGIN:VCALENDAR
VERSION:2.0
PRODID:-//ChamberMaster//Event Calendar 2.0//EN
METHOD:PUBLISH
X-PUBLISHED-TTL:P3D
REFRESH-INTERVAL:P3D
CALSCALE:GREGORIAN
BEGIN:VEVENT
DTSTART:20200226T140000Z
DTEND:20200226T150000Z
X-MICROSOFT-CDO-ALLDAYEVENT:FALSE
SUMMARY:Partnering for Prosperity: Talent Development Task Team meeting
DESCRIPTION:Business-Driven Talent Development Task Team\n\nFebruary 26\, 2020\n\n8-9 am
X-ALT-DESC;FMTTYPE=text/html:Business-Driven Talent Development Task Team<br />\nFebruary 26\, 2020<br />\n8-9 am<br />\n<br />\n<br />\n<br />\n&nbsp\;
LOCATION:Chamber Board Room
UID:e.1432.402724
SEQUENCE:3
DTSTAMP:20260420T010927Z
URL:http://business.etowahchamber.org/events/details/partnering-for-prosperity-talent-development-task-team-meeting-402724
END:VEVENT

END:VCALENDAR
