BEGIN:VCALENDAR
VERSION:2.0
PRODID:-//ChamberMaster//Event Calendar 2.0//EN
METHOD:PUBLISH
X-PUBLISHED-TTL:P3D
REFRESH-INTERVAL:P3D
CALSCALE:GREGORIAN
BEGIN:VEVENT
DTSTART:20130422T123000Z
DTEND:20130422T170000Z
X-MICROSOFT-CDO-ALLDAYEVENT:FALSE
SUMMARY:Patriots Annual Golf Tournament
DESCRIPTION:Gadsden- Etowah Patriots Association presents the annual Patriots Golf Tournament on April 22\, 2013 at TWIN BRIDGES with registration at 7:30 am \n\nand a tee off time of 8:30am.\n\n\n\n \n\nWe are also selling In Memory of/In Honor of Signs for a one time cost of $100.00. These are the size of Tee box signs and you can have a loved ones/Friends name on and if they had served in the military you can have their branch of service\, rank\, and if they served during wartime you can have the campaign they served in listed. These signs will be placed at all of our functions\, such as The Patriots Golf Tournament\, Memorial Day\, Downtown Gadsden for the 4th of July\, and Patriots day Luncheon at Convention Hall. We also put these signs out when we conduct our roadblock fundraisers.\n\nThis is our organizations major fundraiser for the year\, so please contact our office Mon\, Wed\, Fri 10am to noon for more information. 256-467-4042\; Terry Collier/Rick Vaughan.
X-ALT-DESC;FMTTYPE=text/html:<span style="color: black\;">Gadsden- Etowah Patriots Association presents the annual Patriots Golf Tournament&nbsp\;on April 22\, 2013 at TWIN BRIDGES with registration at 7:30 am </span><br />\n<span style="color: black\;">and a tee off time of 8:30am.</span><br />\n<br />\n&nbsp\;<br />\n<span style="color: black\;"><span style="font-size: medium\;"><span style="font-family: times new roman\;">We are also selling In Memory of/In Honor of Signs for a one time cost of $100.00. These are the size of Tee box signs and you can have a loved ones/Friends name on and if they had served in the military you can have their branch of service\, rank\, and if they served during wartime you can have the campaign they served in listed. These signs will be placed at all of our functions\, such as The Patriots Golf Tournament\, Memorial Day\, Downtown Gadsden for the 4th of July\, and Patriots day Luncheon at Convention Hall. We also put these signs out when we conduct our roadblock fundraisers.</span></span></span><br />\n<span style="color: black\;">This is our organizations major fundraiser for the year\, so please contact our office Mon\, Wed\, Fri 10am to noon for more information. 256-467-4042\; Terry Collier/Rick Vaughan.</span>
LOCATION:
UID:e.1432.383105
SEQUENCE:3
DTSTAMP:20260423T082400Z
URL:http://business.etowahchamber.org/events/details/patriots-annual-golf-tournament-04-22-2013-383105
END:VEVENT

END:VCALENDAR
