BEGIN:VCALENDAR
VERSION:2.0
PRODID:-//ChamberMaster//Event Calendar 2.0//EN
METHOD:PUBLISH
X-PUBLISHED-TTL:P3D
REFRESH-INTERVAL:P3D
CALSCALE:GREGORIAN
BEGIN:VEVENT
DTSTART:20181228T230000Z
DTEND:20181229T030000Z
X-MICROSOFT-CDO-ALLDAYEVENT:FALSE
SUMMARY:Paws on the Falls
DESCRIPTION:Bring your furbaby and wag in the Christmas season with The City of Gadsden and Humane Society Pet Rescue & Adoption Center on Friday\, December 28\, 2018 for Paws at the Falls. \n\n\n\n*Pets must be on a leash \n\n*All tickets are $6.00 and $1.00 from each ticket sold will be donated to the Humane Society \n\n*Adoptable pets available\n\n*The train and petting zoo will be closed and Santa will not be present
X-ALT-DESC;FMTTYPE=text/html:<span style="font-size:16px\;"><span style="font-family:arial\;">Bring your furbaby and wag in the Christmas season with The City of Gadsden and Humane Society Pet Rescue &amp\; Adoption Center on Friday\, December 28\, 2018 for Paws at the Falls.&nbsp\;<br />\n<br />\n*Pets must be on a leash&nbsp\;<br />\n*All tickets are $6.00 and $1.00 from each ticket sold will be donated to the Humane Society&nbsp\;<br />\n*Adoptable pets available<br />\n*The train and petting zoo will be closed and Santa will not be present</span></span>
LOCATION:Noccalula Falls Park & Campground 1500 Noccalula Road Gadsden\, AL 35904
UID:e.1432.398331
SEQUENCE:3
DTSTAMP:20260422T152144Z
URL:http://business.etowahchamber.org/events/details/paws-on-the-falls-398331
END:VEVENT

END:VCALENDAR
