BEGIN:VCALENDAR
VERSION:2.0
PRODID:-//ChamberMaster//Event Calendar 2.0//EN
METHOD:PUBLISH
X-PUBLISHED-TTL:P3D
REFRESH-INTERVAL:P3D
CALSCALE:GREGORIAN
BEGIN:VEVENT
DTSTART:20140808T130000Z
DTEND:20140808T170000Z
X-MICROSOFT-CDO-ALLDAYEVENT:FALSE
SUMMARY:Personnel Staffing Inc. Job Fair for Inteva Products
DESCRIPTION:Job Fair\n\nPSI is looking for great candidates\, come see us!\n\nDrug Screen\, Criminal Background Check\,GED or high school diploma and the ability to stand for eight hours or more is required.\n\n\n\nInterviews will be done that morning and the selection process will be done after the interview.\n\n\n\nFor more details call: (256) 547-1668
X-ALT-DESC;FMTTYPE=text/html:<strong><u>Job Fair</u></strong><br />\n<strong>PSI is looking for great candidates\, come see us!</strong><br />\n<em>Drug Screen\, Criminal Background Check\,</em>GED or high school diploma and the ability to stand for eight hours or more is&nbsp\;<em>required</em>.<br />\n<br />\nInterviews will be done that morning and the selection process will be done after the interview.<br />\n<br />\n<strong>For more details call: (256) 547-1668</strong>
LOCATION:4605 Airport Road Gadsden\, AL 35904
UID:e.1432.384891
SEQUENCE:3
DTSTAMP:20260422T171909Z
URL:http://business.etowahchamber.org/events/details/personnel-staffing-inc-job-fair-for-inteva-products-08-08-2014-384891
END:VEVENT

END:VCALENDAR
