BEGIN:VCALENDAR
VERSION:2.0
PRODID:-//ChamberMaster//Event Calendar 2.0//EN
METHOD:PUBLISH
X-PUBLISHED-TTL:P3D
REFRESH-INTERVAL:P3D
CALSCALE:GREGORIAN
BEGIN:VEVENT
DTSTART;VALUE=DATE:20121005
DTEND;VALUE=DATE:20121015
TRANSP:TRANSPARENT
X-MICROSOFT-CDO-ALLDAYEVENT:TRUE
SUMMARY:Peter Pan the Musical
DESCRIPTION:CharACTers & Gadsden State present Peter Pan the musical.  Go to wallacehall.org for tickets or call 256-549-8475 to book your group reservation.  Bring a group of 15 or more and save 15%.\n\n	Showing: October 5\, 7:30 p.m.\; October 6\, 7:30 p.m.\; October 7\, 2:30 p.m.\; October 12\, 9:30 a.m. & 7:30 p.m.\; October 13\, 7:30 p.m.\; October 14\, 2:30 p.m.
X-ALT-DESC;FMTTYPE=text/html:<p>\n	CharACTers &amp\; Gadsden State present Peter Pan the musical.&nbsp\; Go to wallacehall.org for tickets or call 256-549-8475 to book your group reservation.&nbsp\; Bring a group of 15 or more and save 15%.<br />\n	Showing: October 5\, 7:30 p.m.\; October 6\, 7:30 p.m.\; October 7\, 2:30 p.m.\; October 12\, 9:30 a.m. &amp\; 7:30 p.m.\; October 13\, 7:30 p.m.\; October 14\, 2:30 p.m.</p>\n
LOCATION:Wallace Hall
UID:e.1432.382754
SEQUENCE:3
DTSTAMP:20260423T003718Z
URL:http://business.etowahchamber.org/events/details/peter-pan-the-musical-10-05-2012-382754
END:VEVENT

END:VCALENDAR
