BEGIN:VCALENDAR
VERSION:2.0
PRODID:-//ChamberMaster//Event Calendar 2.0//EN
METHOD:PUBLISH
X-PUBLISHED-TTL:P3D
REFRESH-INTERVAL:P3D
CALSCALE:GREGORIAN
BEGIN:VEVENT
DTSTART:20140426T140000Z
DTEND:20140426T220000Z
X-MICROSOFT-CDO-ALLDAYEVENT:FALSE
SUMMARY:Physicians Who Care Presents The 2014 23rd Annual 5K Run/ 1 Mile Walk
DESCRIPTION:5K Run\, 1 Mile Walk
X-ALT-DESC;FMTTYPE=text/html:5K Run\, 1 Mile Walk
LOCATION:The Chamber Gadsden & Etowah County 1 Commerce Square\, Gadsden\, AL *Located directly across street from YMCA and 1 mile north of intersection of Highways 759 and 411.
UID:e.1432.384452
SEQUENCE:3
DTSTAMP:20260422T223149Z
URL:http://business.etowahchamber.org/events/details/physicians-who-care-presents-the-2014-23rd-annual-5k-run-1-mile-walk-04-26-2014-384452
END:VEVENT

END:VCALENDAR
